BEGIN:VCALENDAR
VERSION:2.0
PRODID:-//Het Spirituele Wonder - ECPv6.15.20//NONSGML v1.0//EN
CALSCALE:GREGORIAN
METHOD:PUBLISH
X-ORIGINAL-URL:https://hetspirituelewonder.com
X-WR-CALDESC:Evenementen voor Het Spirituele Wonder
REFRESH-INTERVAL;VALUE=DURATION:PT1H
X-Robots-Tag:noindex
X-PUBLISHED-TTL:PT1H
BEGIN:VTIMEZONE
TZID:Europe/Amsterdam
BEGIN:DAYLIGHT
TZOFFSETFROM:+0100
TZOFFSETTO:+0200
TZNAME:CEST
DTSTART:20250330T010000
END:DAYLIGHT
BEGIN:STANDARD
TZOFFSETFROM:+0200
TZOFFSETTO:+0100
TZNAME:CET
DTSTART:20251026T010000
END:STANDARD
BEGIN:DAYLIGHT
TZOFFSETFROM:+0100
TZOFFSETTO:+0200
TZNAME:CEST
DTSTART:20260329T010000
END:DAYLIGHT
BEGIN:STANDARD
TZOFFSETFROM:+0200
TZOFFSETTO:+0100
TZNAME:CET
DTSTART:20261025T010000
END:STANDARD
BEGIN:DAYLIGHT
TZOFFSETFROM:+0100
TZOFFSETTO:+0200
TZNAME:CEST
DTSTART:20270328T010000
END:DAYLIGHT
BEGIN:STANDARD
TZOFFSETFROM:+0200
TZOFFSETTO:+0100
TZNAME:CET
DTSTART:20271031T010000
END:STANDARD
END:VTIMEZONE
BEGIN:VEVENT
DTSTART;TZID=Europe/Amsterdam:20260220T200000
DTEND;TZID=Europe/Amsterdam:20260220T213000
DTSTAMP:20260423T125709
CREATED:20260216T134526Z
LAST-MODIFIED:20260220T140855Z
UID:1864-1771617600-1771623000@hetspirituelewonder.com
SUMMARY:Ecstatic Dance Antwerpen
DESCRIPTION:✨ Ecstatic Dance Antwerpen – Laat je volledig vrij! ✨Vrijdag 20 februari20:00 – 21:30 | Kavka Oudaan (Oudaan 14\, Antwerpen) \nVoel je welkom voor een magische avond vol beweging\, energie en verbinding! Tijdens deze Ecstatic Dance nemen we je mee op een muzikale reis waarbij je helemaal jezelf mag zijn. Geen passen\, geen regels—alleen jij\, de muziek en de vrijheid om te bewegen zoals je lichaam het aangeeft. \nWe begeleiden je liefdevol door de avond heen. Je hoeft niets—laat je meenemen door de muziek\, laat je lichaam vrij bewegen en voel hoe de stress van je afglijdt. Om het extra bijzonder te maken\, starten we met een verbindend meditatiemoment zodat je rustig kunt landen en in de juiste flow komt. \nDe sfeervolle ruimte van Kavka Oudaan wordt omgetoverd tot een warme\, veilige plek waar iedereen welkom is\, ongeacht ervaring. \n🌟 Kom zoals je bent. Laat los. Dans. Ontspan. Verbind.We kijken ernaar uit om deze bijzondere avond samen met jou te beleven!
URL:https://hetspirituelewonder.com/event/ecstatic-dance-antwerpen-2/
LOCATION:Kavka Oudaan\, Oudaan 14\, Antwerpen\, Antwerpen\, 2000\, Belgium
CATEGORIES:Ecstatic dance
ORGANIZER;CN="Het Spirituele Wonder":MAILTO:info@hetspirituelewonder.com
END:VEVENT
END:VCALENDAR