BEGIN:VCALENDAR
VERSION:2.0
PRODID:-//Het Spirituele Wonder - ECPv6.15.20//NONSGML v1.0//EN
CALSCALE:GREGORIAN
METHOD:PUBLISH
X-WR-CALNAME:Het Spirituele Wonder
X-ORIGINAL-URL:https://hetspirituelewonder.com
X-WR-CALDESC:Evenementen voor Het Spirituele Wonder
REFRESH-INTERVAL;VALUE=DURATION:PT1H
X-Robots-Tag:noindex
X-PUBLISHED-TTL:PT1H
BEGIN:VTIMEZONE
TZID:Europe/Amsterdam
BEGIN:DAYLIGHT
TZOFFSETFROM:+0100
TZOFFSETTO:+0200
TZNAME:CEST
DTSTART:20250330T010000
END:DAYLIGHT
BEGIN:STANDARD
TZOFFSETFROM:+0200
TZOFFSETTO:+0100
TZNAME:CET
DTSTART:20251026T010000
END:STANDARD
BEGIN:DAYLIGHT
TZOFFSETFROM:+0100
TZOFFSETTO:+0200
TZNAME:CEST
DTSTART:20260329T010000
END:DAYLIGHT
BEGIN:STANDARD
TZOFFSETFROM:+0200
TZOFFSETTO:+0100
TZNAME:CET
DTSTART:20261025T010000
END:STANDARD
BEGIN:DAYLIGHT
TZOFFSETFROM:+0100
TZOFFSETTO:+0200
TZNAME:CEST
DTSTART:20270328T010000
END:DAYLIGHT
BEGIN:STANDARD
TZOFFSETFROM:+0200
TZOFFSETTO:+0100
TZNAME:CET
DTSTART:20271031T010000
END:STANDARD
END:VTIMEZONE
BEGIN:VEVENT
DTSTART;TZID=Europe/Amsterdam:20260524T110000
DTEND;TZID=Europe/Amsterdam:20260524T170000
DTSTAMP:20260419T100125
CREATED:20250911T092757Z
LAST-MODIFIED:20250911T092822Z
UID:1646-1779620400-1779642000@hetspirituelewonder.com
SUMMARY:Spirituele beurs Antwerpen (Linkeroever)
DESCRIPTION:Een dag vol verbinding\, inspiratie en innerlijke rust  \nOnze Spirituele Beurs is een plek waar je even mag stilstaan\, ontdekken en ervaren. Een dag waarop je jezelf kunt onderdompelen in een warme en open sfeer\, waar mensen samenkomen om te leren\, te voelen en elkaar te ontmoeten. \n Wat je kunt belevenTijdens de dag kun je kennismaken met uiteenlopende vormen van spiritualiteit en welzijn: \n\n\nErvaren reiki-meesters en healers die je helpen weer in balans te komen \n\n\nTarot- en kaartleggingen die inzicht en richting geven \n\n\nCoaches en begeleiders die je inspireren op je levenspad \n\n\nMassages die je lichaam en geest laten ontspannen \n\n\nLezingen en workshops die uitnodigen tot verdieping en bewustwording \n\n\nDaarnaast kun je rondstruinen langs tafels vol bijzondere schatten: Edelstenen die energie en bescherming brengen Wierook en geuren die rust en sfeer creëren Kaarten en boeken die uitnodigen tot reflectie Sieraden die je herinneren aan jouw innerlijke kracht \n Goed om te weten: Parkeren is gratis\, zodat je zonder zorgen de hele dag kunt genieten. \nHoreca is ook aanwezig. \n Datum: 24 mei | 11.00 – 17:00 Locatie: Sint-Anneke Centrum Antwerpen\, Hanegraefstraat 5 2050 Antwerpen \nKom zoals je bent en laat je inspireren\, raken en verrassen.Of je nu nieuwsgierig bent of al een tijdje op pad bent met spiritualiteit – je bent van harte welkom om deze dag samen te beleven.
URL:https://hetspirituelewonder.com/event/spirituele-beurs-antwerpen-linkeroever-2/
LOCATION:Sint-Anneke Centrum\, Hanegraefstraat 5\, Antwerpen\, Antwerpen\, 2050\, Belgium
CATEGORIES:Spirituele beurs
ORGANIZER;CN="Het Spirituele Wonder":MAILTO:info@hetspirituelewonder.com
END:VEVENT
BEGIN:VEVENT
DTSTART;TZID=Europe/Amsterdam:20260906T110000
DTEND;TZID=Europe/Amsterdam:20260906T170000
DTSTAMP:20260419T100125
CREATED:20260311T090612Z
LAST-MODIFIED:20260311T091104Z
UID:1921-1788692400-1788714000@hetspirituelewonder.com
SUMMARY:Spirituele beurs Antwerpen
DESCRIPTION:Beleef een dag vol spirituele magie\, inzichten en inspiratie! Laat je omringen door de warme energie van edelstenen\, reiki en intuïtieve healing. Ontdek een gevarieerd aanbod van mediums\, kaartleggers\, holistische therapeuten en bijzondere producten.Volg boeiende lezingen over o.a. chakra’s\, hooggevoeligheid\, hypnose\, bewustzijn en persoonlijke groei. Struin langs unieke stands met spirituele tools\, chakra-armbanden\, aromatherapie en meer.Of je nu op zoek bent naar verdieping\, energie of gewoon een fijne dag vol mooie ontmoetingen – deze beurs is voor iedereen!
URL:https://hetspirituelewonder.com/event/spirituele-beurs-antwerpen-4/
LOCATION:Sint-Anneke Centrum\, Hanegraefstraat 5\, Antwerpen\, Antwerpen\, 2050\, Belgium
CATEGORIES:Spirituele beurs
ORGANIZER;CN="Het Spirituele Wonder":MAILTO:info@hetspirituelewonder.com
END:VEVENT
BEGIN:VEVENT
DTSTART;TZID=Europe/Amsterdam:20261025T110000
DTEND;TZID=Europe/Amsterdam:20261025T170000
DTSTAMP:20260419T100125
CREATED:20260311T090735Z
LAST-MODIFIED:20260311T090837Z
UID:1924-1792926000-1792947600@hetspirituelewonder.com
SUMMARY:Spirituele beurs Antwerpen
DESCRIPTION:Beleef een dag vol spirituele magie\, inzichten en inspiratie! Laat je omringen door de warme energie van edelstenen\, reiki en intuïtieve healing. Ontdek een gevarieerd aanbod van mediums\, kaartleggers\, holistische therapeuten en bijzondere producten.Volg boeiende lezingen over o.a. chakra’s\, hooggevoeligheid\, hypnose\, bewustzijn en persoonlijke groei. Struin langs unieke stands met spirituele tools\, chakra-armbanden\, aromatherapie en meer.Of je nu op zoek bent naar verdieping\, energie of gewoon een fijne dag vol mooie ontmoetingen – deze beurs is voor iedereen!
URL:https://hetspirituelewonder.com/event/spirituele-beurs-antwerpen-5/
LOCATION:Sint-Anneke Centrum\, Hanegraefstraat 5\, Antwerpen\, Antwerpen\, 2050\, Belgium
CATEGORIES:Spirituele beurs
ORGANIZER;CN="Het Spirituele Wonder":MAILTO:info@hetspirituelewonder.com
END:VEVENT
BEGIN:VEVENT
DTSTART;TZID=Europe/Amsterdam:20261129T080000
DTEND;TZID=Europe/Amsterdam:20261129T170000
DTSTAMP:20260419T100125
CREATED:20260311T091014Z
LAST-MODIFIED:20260311T091014Z
UID:1927-1795939200-1795971600@hetspirituelewonder.com
SUMMARY:Spirituele beurs Antwerpen
DESCRIPTION:Beleef een dag vol spirituele magie\, inzichten en inspiratie! Laat je omringen door de warme energie van edelstenen\, reiki en intuïtieve healing. Ontdek een gevarieerd aanbod van mediums\, kaartleggers\, holistische therapeuten en bijzondere producten.Volg boeiende lezingen over o.a. chakra’s\, hooggevoeligheid\, hypnose\, bewustzijn en persoonlijke groei. Struin langs unieke stands met spirituele tools\, chakra-armbanden\, aromatherapie en meer.Of je nu op zoek bent naar verdieping\, energie of gewoon een fijne dag vol mooie ontmoetingen – deze beurs is voor iedereen!
URL:https://hetspirituelewonder.com/event/spirituele-beurs-antwerpen-6/
LOCATION:Sint-Anneke Centrum\, Hanegraefstraat 5\, Antwerpen\, Antwerpen\, 2050\, Belgium
CATEGORIES:Spirituele beurs
END:VEVENT
END:VCALENDAR