BEGIN:VCALENDAR
VERSION:2.0
PRODID:-//Het Spirituele Wonder - ECPv6.15.20//NONSGML v1.0//EN
CALSCALE:GREGORIAN
METHOD:PUBLISH
X-WR-CALNAME:Het Spirituele Wonder
X-ORIGINAL-URL:https://hetspirituelewonder.com
X-WR-CALDESC:Evenementen voor Het Spirituele Wonder
REFRESH-INTERVAL;VALUE=DURATION:PT1H
X-Robots-Tag:noindex
X-PUBLISHED-TTL:PT1H
BEGIN:VTIMEZONE
TZID:Europe/Amsterdam
BEGIN:DAYLIGHT
TZOFFSETFROM:+0100
TZOFFSETTO:+0200
TZNAME:CEST
DTSTART:20220327T010000
END:DAYLIGHT
BEGIN:STANDARD
TZOFFSETFROM:+0200
TZOFFSETTO:+0100
TZNAME:CET
DTSTART:20221030T010000
END:STANDARD
BEGIN:DAYLIGHT
TZOFFSETFROM:+0100
TZOFFSETTO:+0200
TZNAME:CEST
DTSTART:20230326T010000
END:DAYLIGHT
BEGIN:STANDARD
TZOFFSETFROM:+0200
TZOFFSETTO:+0100
TZNAME:CET
DTSTART:20231029T010000
END:STANDARD
BEGIN:DAYLIGHT
TZOFFSETFROM:+0100
TZOFFSETTO:+0200
TZNAME:CEST
DTSTART:20240331T010000
END:DAYLIGHT
BEGIN:STANDARD
TZOFFSETFROM:+0200
TZOFFSETTO:+0100
TZNAME:CET
DTSTART:20241027T010000
END:STANDARD
BEGIN:DAYLIGHT
TZOFFSETFROM:+0100
TZOFFSETTO:+0200
TZNAME:CEST
DTSTART:20250330T010000
END:DAYLIGHT
BEGIN:STANDARD
TZOFFSETFROM:+0200
TZOFFSETTO:+0100
TZNAME:CET
DTSTART:20251026T010000
END:STANDARD
BEGIN:DAYLIGHT
TZOFFSETFROM:+0100
TZOFFSETTO:+0200
TZNAME:CEST
DTSTART:20260329T010000
END:DAYLIGHT
BEGIN:STANDARD
TZOFFSETFROM:+0200
TZOFFSETTO:+0100
TZNAME:CET
DTSTART:20261025T010000
END:STANDARD
END:VTIMEZONE
BEGIN:VEVENT
DTSTART;TZID=Europe/Amsterdam:20250919T193000
DTEND;TZID=Europe/Amsterdam:20250919T220000
DTSTAMP:20260421T004855
CREATED:20250823T184117Z
LAST-MODIFIED:20250919T063045Z
UID:1523-1758310200-1758319200@hetspirituelewonder.com
SUMMARY:Spirituele date- en ontmoetingsavond
DESCRIPTION:Ben je klaar om daten op een totaal andere manier te ervaren?Tijdens deze bijzondere avond laten we leeftijd en oppervlakkige kennismakingen achter ons en stappen we in een sfeer van echte verbinding. \nSamen gaan we dieper in op levensvragen\, dromen en de kern van wie we zijn. Niet het “snelle gesprek”\, maar ontmoeten van hart tot hart. 💜 \nMet een speelse mix van inspirerende spelvormen en betekenisvolle gesprekken ontdek je elkaar op een nieuwe manier – open\, eerlijk en zonder maskers. \n🌸 Verwacht een avond vol verrassingen\, warmte en misschien wel een ontmoeting die je leven verrijkt. 🌙✨
URL:https://hetspirituelewonder.com/event/spirituele-date-en-ontmoetingsavond/
LOCATION:Kavka Oudaan\, Oudaan 14\, Antwerpen\, Antwerpen\, 2000\, Belgium
CATEGORIES:Spiritueel daten
ORGANIZER;CN="Het Spirituele Wonder":MAILTO:info@hetspirituelewonder.com
END:VEVENT
BEGIN:VEVENT
DTSTART;TZID=Europe/Amsterdam:20230902T110000
DTEND;TZID=Europe/Amsterdam:20230902T170000
DTSTAMP:20260421T004855
CREATED:20230614T125436Z
LAST-MODIFIED:20230614T131709Z
UID:547-1693652400-1693674000@hetspirituelewonder.com
SUMMARY:Spirituele beurs 's-Hertogenbosch (Rosmalen)
DESCRIPTION:Het is eindelijk weer zover! Na een (corona-)periode van afwezigheid\, organiseert Het Spirituele Wonder op zaterdag 2 september 2023 een spirituele beurs in ‘s-Hertogenbosch (Rosmalen). \nSamen met jullie doen wij er alles aan om de beurs wederom tot een groot succes te maken op deze nieuwe en sfeervolle locatie. Zoals vanouds zullen wij je met open armen ontvangen. Ontdek de spirituele wereld door mediums\, paragnosten\, (reiki-)meesters\, masseurs en andere spiritueel begeleiders te ontmoeten die je graag helpen met je vragen. Kom meer te weten over verschillende spirituele onderwerpen zoals; reiki\, aura’s\, het innerlijk kind\, astrologie\, numerologie\, meditatie en Feng Shui. Bezoek ook vooral de lezingen waarin deze en/of andere interessante onderwerpen aan bod komen. Bovendien zijn er op deze beurs edelstenen en boeken te vinden. \nJe kunt gratis parkeren en de locatie is gemakkelijk te bereiken met het openbaar vervoer via dichtbij liggende uitvalswegen. Daarnaast is er de mogelijkheid iets te eten en drinken. De entreeprijs voor bezoekers is €4\,99. Wij hopen je van harte te mogen verwelkomen op deze beurs! \nLiefdevolle groet\, Het Spirituele Wonder. \nVoor meer informatie over de locatie ga naar: De Biechten – Sociaal – cultureel centrum. 
URL:https://hetspirituelewonder.com/event/spirituele-beurs-s-hertogenbosch-rosmalen/
LOCATION:Sociaal Cultureel Centrum De Biechten\, Vincent van Goghlaan 1\, Rosmalen\, Noord-Brabant\, 5246 GA\, Nederland
CATEGORIES:Spirituele beurs
ORGANIZER;CN="Het Spirituele Wonder":MAILTO:info@hetspirituelewonder.com
END:VEVENT
END:VCALENDAR