BEGIN:VCALENDAR
VERSION:2.0
PRODID:-//Het Spirituele Wonder - ECPv6.15.20//NONSGML v1.0//EN
CALSCALE:GREGORIAN
METHOD:PUBLISH
X-WR-CALNAME:Het Spirituele Wonder
X-ORIGINAL-URL:https://hetspirituelewonder.com
X-WR-CALDESC:Evenementen voor Het Spirituele Wonder
REFRESH-INTERVAL;VALUE=DURATION:PT1H
X-Robots-Tag:noindex
X-PUBLISHED-TTL:PT1H
BEGIN:VTIMEZONE
TZID:Europe/Amsterdam
BEGIN:DAYLIGHT
TZOFFSETFROM:+0100
TZOFFSETTO:+0200
TZNAME:CEST
DTSTART:20240331T010000
END:DAYLIGHT
BEGIN:STANDARD
TZOFFSETFROM:+0200
TZOFFSETTO:+0100
TZNAME:CET
DTSTART:20241027T010000
END:STANDARD
BEGIN:DAYLIGHT
TZOFFSETFROM:+0100
TZOFFSETTO:+0200
TZNAME:CEST
DTSTART:20250330T010000
END:DAYLIGHT
BEGIN:STANDARD
TZOFFSETFROM:+0200
TZOFFSETTO:+0100
TZNAME:CET
DTSTART:20251026T010000
END:STANDARD
BEGIN:DAYLIGHT
TZOFFSETFROM:+0100
TZOFFSETTO:+0200
TZNAME:CEST
DTSTART:20260329T010000
END:DAYLIGHT
BEGIN:STANDARD
TZOFFSETFROM:+0200
TZOFFSETTO:+0100
TZNAME:CET
DTSTART:20261025T010000
END:STANDARD
END:VTIMEZONE
BEGIN:VEVENT
DTSTART;TZID=Europe/Amsterdam:20251130T110000
DTEND;TZID=Europe/Amsterdam:20251130T170000
DTSTAMP:20260420T205007
CREATED:20250709T121121Z
LAST-MODIFIED:20250709T121121Z
UID:1312-1764500400-1764522000@hetspirituelewonder.com
SUMMARY:Spirituele beleef- en ervaringsbeurs Antwerpen (Linkeroever)
DESCRIPTION:✨ Een dag vol magie\, inspiratie en verbinding ✨ \nZin in een dag vol verwondering\, verdieping en betekenisvolle ontmoetingen? Of je nu op zoek bent naar persoonlijke groei\, nieuwe inzichten of gewoon een fijne sfeer – deze spirituele beurs is een echte aanrader! \nLaat je meenemen op een reis langs een divers aanbod van consulten\, activiteiten\, producten en inspirerende momenten die je hart openen en je ziel voeden. \n🌟 Wat kun je allemaal beleven? \n🔮 Mediums & kaartleggersOntvang bijzondere boodschappen en inzichten die je helpen stilstaan\, vooruitkijken en verbinden met jezelf. Laat je begeleiden door het verleden\, het heden en mogelijkheden voor de toekomst. \n🌿 Holistische therapeuten & reiki-meestersErvaar helende energie en diepe ontspanning. Via zachte aanraking\, energiebehandelingen en bewustwording kom je weer in balans. Gun jezelf een moment van rust en herstel. \n🕯️ Spirituele producten & handgemaakte vondstenLaat je verrassen door kraampjes vol unieke schatten: edelstenen\, orakelkaarten\, kaarsen\, sieraden\, pendels\, runen\, spirituele kunst en meer. Elk item met liefde geselecteerd – een cadeautje voor jezelf of een ander. \n🌬️ Aromatherapie & natuurlijke verzorgingVoel de kracht van de natuur. Ontdek geurige oliën\, verzorgende balsems en andere natuurlijke producten die lichaam en geest ondersteunen – zacht\, puur en doeltreffend. \n📿 Workshops & mini-consultenDoe mee aan korte sessies die je inzichten geven of tools aanreiken voor je spirituele pad. Of je nu net begint of al langer onderweg bent: er is altijd iets dat bij je past. \n🗣️ Lezingen & inspiratiemomentenLaat je raken door verhalen en inzichten tijdens boeiende lezingen. Thema’s zoals intuïtieve ontwikkeling\, blokkades doorbreken\, de kracht van intenties\, spiritueel ontwaken en het volgen van je zielspad komen aan bod. \n💫 Een dag om op te laden en te verbindenKom zoals je bent. Geniet van de sfeer\, ontmoet gelijkgestemden\, stel je vragen en laat je inspireren. Misschien ontdek je precies dat wat je op dit moment nodig hebt. \n📍 Praktisch🚗 Gratis parkeren op locatie🚉 Goed bereikbaar met het openbaar vervoer🎟️ Entree: €10 per persoon – bestel je ticket online om verzekerd te zijn van toegang \n🌟 Laat je betoveren. Laat je inspireren. En neem iets mee dat je écht raakt.Wij kijken ernaar uit om je te ontmoeten op deze bijzondere dag!
URL:https://hetspirituelewonder.com/event/spirituele-beleef-en-ervaringsbeurs-antwerpen-linkeroever-2/
LOCATION:Sint-Anneke Centrum\, Hanegraefstraat 5\, Antwerpen\, Antwerpen\, 2050\, Belgium
CATEGORIES:Spirituele beurs
ORGANIZER;CN="Het Spirituele Wonder":MAILTO:info@hetspirituelewonder.com
END:VEVENT
BEGIN:VEVENT
DTSTART;TZID=Europe/Amsterdam:20251026T110000
DTEND;TZID=Europe/Amsterdam:20251026T170000
DTSTAMP:20260420T205007
CREATED:20250708T060619Z
LAST-MODIFIED:20250708T062603Z
UID:1307-1761476400-1761498000@hetspirituelewonder.com
SUMMARY:Spirituele beleef- en ervaringsbeurs Antwerpen (Linkeroever)
DESCRIPTION:✨ Beleef een dag vol magie\, inzicht en verbinding ✨ \nBen je op zoek naar inspiratie\, persoonlijke groei of gewoon een fijne dag vol mooie ontmoetingen? Dan wil je deze spirituele beurs niet missen!Laat je verrassen door een gevarieerd aanbod aan activiteiten\, consulten\, producten en inspirerende momenten die je hart en ziel raken. \n🌟 Wat kun je allemaal verwachten? \n🔮 Mediums & kaartleggersLaat je raken door diepgaande boodschappen en inzichten. Ontdek wat het verleden je wil vertellen\, wat er in het nu speelt en welke richting je mag inslaan voor de toekomst. Een waardevolle kans om stil te staan bij jezelf. \n🌿 Holistische therapeuten & reiki-meestersErvaar de kracht van energetische behandelingen\, helende aanraking en innerlijke rust. Laat spanningen los en voel hoe je energie weer gaat stromen. \n🕯️ Spirituele producten & handgemaakte schattenDwaal langs sfeervolle kraampjes vol edelstenen\, orakelkaarten\, kaarsen\, handgemaakte sieraden\, spirituele kunst\, runen\, pendels en meer. Elk item is met zorg en liefde uitgekozen of gemaakt – perfect als cadeau voor jezelf of een ander. \n🌬️ Aromatherapie & natuurlijke verzorgingRuik\, proef en voel de kracht van moeder natuur. Ontdek zuivere oliën\, balsems en andere natuurlijke producten die je welzijn op een zachte manier ondersteunen. \n📿 Workshops & mini-consultenLaat je inspireren en ontdek tools die je verder helpen op jouw pad. Of je nu beginnend bent of al wat langer bezig bent met spiritualiteit – er is voor ieder wat wils. \n🗣️ Lezingen & inspiratiemomentenIn de middag kun je deelnemen aan krachtige en praktische lezingen over o.a. intuïtieve ontwikkeling\, het doorbreken van blokkades\, de kracht van affirmaties\, spiritueel ontwaken en het volgen van je zielsmissie. Laat je raken\, herken jezelf in verhalen van anderen en neem nieuwe inzichten mee naar huis. \n💫 Een dag om op te laden en je te verbindenOf je nu komt om te ontdekken\, te verdiepen of gewoon te genieten van de sfeer – je bent welkom zoals je bent. Ontmoet gelijkgestemden\, stel je vragen\, laat je energie op en wie weet… kom je iets of iemand tegen die je precies dát geeft wat je nu nodig hebt. \n\n📍 Praktisch🚗 Gratis parkeren op locatie🚉 Goed bereikbaar met het openbaar vervoer🎟️ Entree: €10 per persoon – bestel je ticket alvast online om zeker te zijn van een plekje! \n\n🌟 Laat je verwonderen. Laat je inspireren. En neem iets mee dat je echt raakt.Wij kijken er enorm naar uit je te verwelkomen op deze magische dag!
URL:https://hetspirituelewonder.com/event/spirituele-beleef-en-ervaringsbeurs-antwerpen-linkeroever/
LOCATION:Sint-Anneke Centrum\, Hanegraefstraat 5\, Antwerpen\, Antwerpen\, 2050\, Belgium
CATEGORIES:Spirituele beurs
ORGANIZER;CN="Het Spirituele Wonder":MAILTO:info@hetspirituelewonder.com
END:VEVENT
END:VCALENDAR